BEGIN:VCALENDAR
VERSION:2.0
PRODID:-//eventon.com NONSGML v1.0//EN
BEGIN:VEVENT
UID:69e7690893b55
DTSTAMP:20260421T120944
DTSTART:20241119T090000Z
DTEND:20241120T170000Z
LOCATION:﻿Essen 
SUMMARY:Normgerechte Konstruktionszeichnungen für die moderne Fertigung
DESCRIPTION: Notwendige Grundlagen zur Anwendung des aktuellen ISO-GPS-Normungsstandes sowie der neuen Toleranzregeln
END:VEVENT
END:VCALENDAR