BEGIN:VCALENDAR
VERSION:2.0
PRODID:-//eventon.com NONSGML v1.0//EN
BEGIN:VEVENT
UID:69e82c8800d5f
DTSTAMP:20260422T020352
DTSTART:20241126T090000Z
DTEND:20241126T170000Z
LOCATION:﻿Essen 
SUMMARY:Fortbildung für Ausbilder\,  Unterweiser und Einsatzleiter von Kranführern und Anschlägern
DESCRIPTION: Fortbildung für Ausbilder\,  Unterweiser und Einsatzleiter von Kranführern und Anschlägern sowie Koordinatoren von Kranarbeiten
END:VEVENT
END:VCALENDAR