BEGIN:VCALENDAR
VERSION:2.0
PRODID:-//eventon.com NONSGML v1.0//EN
BEGIN:VEVENT
UID:69e889bbbf9a1
DTSTAMP:20260422T084131
DTSTART:20241108T090000Z
DTEND:20241108T170000Z
LOCATION:﻿Essen 
SUMMARY:Prüfungsvorbereitung und IHK-Prüfung für Gefahrgutbeauftragte
DESCRIPTION: Der erfahrene Referent übt mithilfe der Rechtsvorschriften\,  die auch in der Prüfung verwendet werden dürfen\,  die erfolgreiche Durchführung der IHK-Prüfung.
END:VEVENT
END:VCALENDAR