BEGIN:VCALENDAR
VERSION:2.0
PRODID:-//eventon.com NONSGML v1.0//EN
BEGIN:VEVENT
UID:69ecd06f6bc84
DTSTAMP:20260425T143215
DTSTART:20241120T090000Z
DTEND:20241121T170000Z
LOCATION:﻿Essen 
SUMMARY:Rohrleitungen nach EN 13480 - Teil 3: Konstruktion und Berechnung mit Praxisbeispielen
DESCRIPTION: Erfahren Sie die Möglichkeiten und Grenzen der Berechnung von Rohrleitungsbauteilen\,  Rohrleitungssystemen und deren Halterungen nach EN 13480-3.
END:VEVENT
END:VCALENDAR