BEGIN:VCALENDAR
VERSION:2.0
PRODID:-//eventon.com NONSGML v1.0//EN
BEGIN:VEVENT
UID:69e7290d6b0bc
DTSTAMP:20260421T073645
DTSTART:20240614T090000Z
DTEND:20240615T170000Z
LOCATION:﻿Essen 
SUMMARY:Strahlenschutz-Grundkurs für Ärzte und MPE – Blended-Learning-Kurs
DESCRIPTION: Im Grundkurs erwerben Sie grundlegende theoretische und praktische Kenntnisse im Strahlenschutz für Ärzte und MPE.
END:VEVENT
END:VCALENDAR