BEGIN:VCALENDAR
VERSION:2.0
PRODID:-//eventon.com NONSGML v1.0//EN
BEGIN:VEVENT
UID:69e8895c1e50f
DTSTAMP:20260422T083956
DTSTART:20240822T090000Z
DTEND:20240822T170000Z
LOCATION:﻿Essen 
SUMMARY:Strahlenschutzkurs für die Fachkundegruppe R3
DESCRIPTION: Strahlenschutzkurs R3 - Erwerb der Fachkunde im Strahlenschutz. Modul RM. Werden Sie Strahlenschutzbeauftragter!
END:VEVENT
END:VCALENDAR