BEGIN:VCALENDAR
VERSION:2.0
PRODID:-//eventon.com NONSGML v1.0//EN
BEGIN:VEVENT
UID:69e88ac4e5944
DTSTAMP:20260422T084556
DTSTART:20260629T090000Z
DTEND:20260630T170000Z
LOCATION:Weinheim 
SUMMARY:Neue Entwicklungen im Wasserrecht und im technischen Gewässerschutz
DESCRIPTION: Erfahren Sie neue Entwicklungen im Wasserrecht und im technischen Gewässerschutz in dieser 2tägigen Fortbildung
END:VEVENT
END:VCALENDAR